BEGIN:VCALENDAR
VERSION:2.0
PRODID:-//wp-events-plugin.com//7.2.3.1//EN
TZID:Europe/Berlin
X-WR-TIMEZONE:Europe/Berlin
BEGIN:VEVENT
UID:116@bv-schwarzwaldbaar.de
DTSTART;TZID=Europe/Berlin:20260307T093000
DTEND;TZID=Europe/Berlin:20260307T170000
DTSTAMP:20260204T080802Z
URL:https://www.bv-schwarzwaldbaar.de/events/workshop-polka-walzer-marsch-
 mit-berthold-schick/
SUMMARY:Workshop Polka\, Walzer\, Marsch mit Berthold Schick
DESCRIPTION:
LOCATION:Hüfingen Lucian-Reich-Schule\, Hohenstraße  16\, Hüfingen\, Deu
 tschland
GEO:47.924413;8.49548
X-APPLE-STRUCTURED-LOCATION;VALUE=URI;X-ADDRESS=Hohenstraße  16\, Hüfinge
 n\, Deutschland;X-APPLE-RADIUS=100;X-TITLE=Hüfingen Lucian-Reich-Schule:g
 eo:47.924413,8.49548
END:VEVENT
BEGIN:VTIMEZONE
TZID:Europe/Berlin
X-LIC-LOCATION:Europe/Berlin
BEGIN:STANDARD
DTSTART:20251026T020000
TZOFFSETFROM:+0200
TZOFFSETTO:+0100
TZNAME:CET
END:STANDARD
END:VTIMEZONE
END:VCALENDAR