BEGIN:VCALENDAR
VERSION:2.0
PRODID:-//wp-events-plugin.com//7.2.3.1//EN
TZID:Europe/Berlin
X-WR-TIMEZONE:Europe/Berlin
BEGIN:VEVENT
UID:131@bv-schwarzwaldbaar.de
DTSTART;TZID=Europe/Berlin:20261206T140000
DTEND;TZID=Europe/Berlin:20261206T160000
DTSTAMP:20260211T180422Z
URL:https://www.bv-schwarzwaldbaar.de/events/weihnachtsvorspiel-der-stadtk
 apelle-voehrenbach/
SUMMARY:Weihnachtsvorspiel der Stadtkapelle Vöhrenbach
DESCRIPTION:Weiha
LOCATION:Vöhrenbach Stadthalle\, Friedrichstraße 8\, Vöhrenbach\, Deutsc
 hland
GEO:48.045639;8.304049
X-APPLE-STRUCTURED-LOCATION;VALUE=URI;X-ADDRESS=Friedrichstraße 8\, Vöhre
 nbach\, Deutschland;X-APPLE-RADIUS=100;X-TITLE=Vöhrenbach Stadthalle:geo:
 48.045639,8.304049
END:VEVENT
BEGIN:VTIMEZONE
TZID:Europe/Berlin
X-LIC-LOCATION:Europe/Berlin
BEGIN:STANDARD
DTSTART:20261025T020000
TZOFFSETFROM:+0200
TZOFFSETTO:+0100
TZNAME:CET
END:STANDARD
END:VTIMEZONE
END:VCALENDAR