BEGIN:VCALENDAR
VERSION:2.0
PRODID:-//wp-events-plugin.com//7.2.3.1//EN
TZID:Europe/Berlin
X-WR-TIMEZONE:Europe/Berlin
BEGIN:VEVENT
UID:122@bv-schwarzwaldbaar.de
DTSTART;TZID=Europe/Berlin:20261219T203000
DTEND;TZID=Europe/Berlin:20261219T230000
DTSTAMP:20260205T193855Z
URL:https://www.bv-schwarzwaldbaar.de/events/weihnachtskonzert/
SUMMARY:Weihnachtskonzert
DESCRIPTION:Weihnachtskonzert des MV Mariazell in der Mühlbachhalle
LOCATION:Mariazell Mühlbach-Halle\, Pfarrgasse 10/1\, Eschbronn\, 78664\, 
 Deutschland
GEO:48.185022;8.455748
X-APPLE-STRUCTURED-LOCATION;VALUE=URI;X-ADDRESS=Pfarrgasse 10/1\, Eschbronn
 \, 78664\, Deutschland;X-APPLE-RADIUS=100;X-TITLE=Mariazell Mühlbach-Hall
 e:geo:48.185022,8.455748
END:VEVENT
BEGIN:VTIMEZONE
TZID:Europe/Berlin
X-LIC-LOCATION:Europe/Berlin
BEGIN:STANDARD
DTSTART:20261025T020000
TZOFFSETFROM:+0200
TZOFFSETTO:+0100
TZNAME:CET
END:STANDARD
END:VTIMEZONE
END:VCALENDAR