BEGIN:VCALENDAR
VERSION:2.0
PRODID:-//wp-events-plugin.com//7.2.3.1//EN
TZID:Europe/Berlin
X-WR-TIMEZONE:Europe/Berlin
BEGIN:VEVENT
UID:127@bv-schwarzwaldbaar.de
DTSTART;TZID=Europe/Berlin:20260530T210000
DTEND;TZID=Europe/Berlin:20260530T235900
DTSTAMP:20260208T104123Z
URL:https://www.bv-schwarzwaldbaar.de/events/walpurgisnacht-des-musikverei
 ns-nussbach/
SUMMARY:Walpurgisnacht des Musikvereins Nußbach
DESCRIPTION:alpurgisnacht
LOCATION:Nußbach Sportplatz\, Alte Straße 10\, Triberg-Nussbach\, Deutsch
 land
GEO:48.131337;8.256355
X-APPLE-STRUCTURED-LOCATION;VALUE=URI;X-ADDRESS=Alte Straße 10\, Triberg-N
 ussbach\, Deutschland;X-APPLE-RADIUS=100;X-TITLE=Nußbach Sportplatz:geo:4
 8.131337,8.256355
END:VEVENT
BEGIN:VTIMEZONE
TZID:Europe/Berlin
X-LIC-LOCATION:Europe/Berlin
BEGIN:DAYLIGHT
DTSTART:20260329T030000
TZOFFSETFROM:+0100
TZOFFSETTO:+0200
TZNAME:CEST
END:DAYLIGHT
END:VTIMEZONE
END:VCALENDAR