BEGIN:VCALENDAR
VERSION:2.0
PRODID:-//wp-events-plugin.com//7.2.3.1//EN
TZID:Europe/Berlin
X-WR-TIMEZONE:Europe/Berlin
BEGIN:VEVENT
UID:119@bv-schwarzwaldbaar.de
DTSTART;TZID=Europe/Berlin:20260619T183000
DTEND;TZID=Europe/Berlin:20260619T230000
DTSTAMP:20260303T102603Z
URL:https://www.bv-schwarzwaldbaar.de/events/waldschrei-dobelhock-des-musi
 kvereins-frohsinn-tennenbronn/
SUMMARY:Hock im Dobel des Musikvereins Frohsinn Tennenbronn
DESCRIPTION:Gemütlicher Hock mit dem Jugendorchester Tennenbronn und weite
 ren Musikvereinen aus der Region.\n\nAußerdem Übertragung des WM-Gruppel
 spiels Deutschland - Elfenbeinküste\n\nhttp://www.frohsinn-tennenbronn.de
LOCATION:Tennenbronn Wiesenbauerndobel\, Löwenstraße 41\, Tennenbronn \, 
 78144\, Deutschland
GEO:48.188989;8.346761
X-APPLE-STRUCTURED-LOCATION;VALUE=URI;X-ADDRESS=Löwenstraße 41\, Tennenbr
 onn \, 78144\, Deutschland;X-APPLE-RADIUS=100;X-TITLE=Tennenbronn Wiesenba
 uerndobel:geo:48.188989,8.346761
END:VEVENT
BEGIN:VTIMEZONE
TZID:Europe/Berlin
X-LIC-LOCATION:Europe/Berlin
BEGIN:DAYLIGHT
DTSTART:20260329T030000
TZOFFSETFROM:+0100
TZOFFSETTO:+0200
TZNAME:CEST
END:DAYLIGHT
END:VTIMEZONE
END:VCALENDAR