BEGIN:VCALENDAR
VERSION:2.0
PRODID:-//wp-events-plugin.com//7.2.3.1//EN
TZID:Europe/Berlin
X-WR-TIMEZONE:Europe/Berlin
BEGIN:VEVENT
UID:129@bv-schwarzwaldbaar.de
DTSTART;TZID=Europe/Berlin:20260717T000000
DTEND;TZID=Europe/Berlin:20260719T000000
DTSTAMP:20260211T175912Z
URL:https://www.bv-schwarzwaldbaar.de/events/stadtfest-mit-der-stadkapelle
 -voehrenbach/
SUMMARY:Stadtfest mit der Stadkapelle Vöhrenbach
DESCRIPTION:[vc_row][vc_column][vc_column_text css=""][/vc_column_text][/vc
 _column][/vc_row]
LOCATION:Vöhrenbach\, Vöhrenbach\, Vöhrenbach\,  	78147 \, Deutschland
X-APPLE-STRUCTURED-LOCATION;VALUE=URI;X-ADDRESS=Vöhrenbach\, Vöhrenbach\,
   	78147 \, Deutschland;X-APPLE-RADIUS=100;X-TITLE=Vöhrenbach:geo:0,0
END:VEVENT
BEGIN:VTIMEZONE
TZID:Europe/Berlin
X-LIC-LOCATION:Europe/Berlin
BEGIN:DAYLIGHT
DTSTART:20260329T030000
TZOFFSETFROM:+0100
TZOFFSETTO:+0200
TZNAME:CEST
END:DAYLIGHT
END:VTIMEZONE
END:VCALENDAR