BEGIN:VCALENDAR
VERSION:2.0
PRODID:-//wp-events-plugin.com//7.2.3.1//EN
TZID:Europe/Berlin
X-WR-TIMEZONE:Europe/Berlin
BEGIN:VEVENT
UID:130@bv-schwarzwaldbaar.de
DTSTART;TZID=Europe/Berlin:20260729T183000
DTEND;TZID=Europe/Berlin:20260729T230000
DTSTAMP:20260211T180256Z
URL:https://www.bv-schwarzwaldbaar.de/events/sommerabschluss-der-stadtkape
 lle-voehrenbach/
SUMMARY:Sommerabschluss der Stadtkapelle Vöhrenbach
DESCRIPTION:
LOCATION:Vöhrenbach Haus der Heimatgilde\, Johann-Peter-Hebel-Straße  3\,
  Vöhrenbach\, 78147\, Deutschland
X-APPLE-STRUCTURED-LOCATION;VALUE=URI;X-ADDRESS=Johann-Peter-Hebel-Straße 
  3\, Vöhrenbach\, 78147\, Deutschland;X-APPLE-RADIUS=100;X-TITLE=Vöhrenb
 ach Haus der Heimatgilde:geo:0,0
END:VEVENT
BEGIN:VTIMEZONE
TZID:Europe/Berlin
X-LIC-LOCATION:Europe/Berlin
BEGIN:DAYLIGHT
DTSTART:20260329T030000
TZOFFSETFROM:+0100
TZOFFSETTO:+0200
TZNAME:CEST
END:DAYLIGHT
END:VTIMEZONE
END:VCALENDAR