BEGIN:VCALENDAR
VERSION:2.0
PRODID:-//wp-events-plugin.com//7.2.3.1//EN
TZID:Europe/Berlin
X-WR-TIMEZONE:Europe/Berlin
BEGIN:VEVENT
UID:128@bv-schwarzwaldbaar.de
DTSTART;TZID=Europe/Berlin:20260729T200000
DTEND;TZID=Europe/Berlin:20260729T230000
DTSTAMP:20260208T105141Z
URL:https://www.bv-schwarzwaldbaar.de/events/platzkonzert-des-mv-rohrbach/
SUMMARY:Platzkonzert des MV Rohrbach
DESCRIPTION:
LOCATION:Rohrbach Dorfgemeinschaftshaus\, Schönenbacher Straße 52\, Furtw
 angen im Schwarzwald\, 78120 \, Deutschland
X-APPLE-STRUCTURED-LOCATION;VALUE=URI;X-ADDRESS=Schönenbacher Straße 52\,
  Furtwangen im Schwarzwald\, 78120 \, Deutschland;X-APPLE-RADIUS=100;X-TIT
 LE=Rohrbach Dorfgemeinschaftshaus:geo:0,0
END:VEVENT
BEGIN:VTIMEZONE
TZID:Europe/Berlin
X-LIC-LOCATION:Europe/Berlin
BEGIN:DAYLIGHT
DTSTART:20260329T030000
TZOFFSETFROM:+0100
TZOFFSETTO:+0200
TZNAME:CEST
END:DAYLIGHT
END:VTIMEZONE
END:VCALENDAR