BEGIN:VCALENDAR
VERSION:2.0
PRODID:-//wp-events-plugin.com//7.2.3.1//EN
TZID:Europe/Berlin
X-WR-TIMEZONE:Europe/Berlin
BEGIN:VEVENT
UID:96@bv-schwarzwaldbaar.de
DTSTART;TZID=Europe/Berlin:20260731T190000
DTEND;TZID=Europe/Berlin:20260731T190000
DTSTAMP:20260211T180706Z
URL:https://www.bv-schwarzwaldbaar.de/events/platzkonzert-des-mv-guetenbac
 h/
SUMMARY:Platzkonzert des MV Gütenbach
DESCRIPTION:
LOCATION:Gütenbach Festhalle\, Schulstraße 5\, Gütenbach\, 78148\, Deuts
 chland
GEO:48.04697;8.14112
X-APPLE-STRUCTURED-LOCATION;VALUE=URI;X-ADDRESS=Schulstraße 5\, Gütenbach
 \, 78148\, Deutschland;X-APPLE-RADIUS=100;X-TITLE=Gütenbach Festhalle:geo
 :48.04697,8.14112
END:VEVENT
BEGIN:VTIMEZONE
TZID:Europe/Berlin
X-LIC-LOCATION:Europe/Berlin
BEGIN:DAYLIGHT
DTSTART:20260329T030000
TZOFFSETFROM:+0100
TZOFFSETTO:+0200
TZNAME:CEST
END:DAYLIGHT
END:VTIMEZONE
END:VCALENDAR