BEGIN:VCALENDAR
VERSION:2.0
PRODID:-//wp-events-plugin.com//7.2.3.1//EN
TZID:Europe/Berlin
X-WR-TIMEZONE:Europe/Berlin
BEGIN:VEVENT
UID:125@bv-schwarzwaldbaar.de
DTSTART;TZID=Europe/Berlin:20260715T193000
DTEND;TZID=Europe/Berlin:20260715T220000
DTSTAMP:20260208T103740Z
URL:https://www.bv-schwarzwaldbaar.de/events/marschmusikkonzert-des-mv-kk-
 schonach/
SUMMARY:Marschmusikkonzert des MV-KK Schonach
DESCRIPTION:zusammen mit dem MV-TK Nußbach
LOCATION:Schonach Kurgarten\, Hauptstraße 6\,  Schonach\, 78136 \, Deutsch
 land
X-APPLE-STRUCTURED-LOCATION;VALUE=URI;X-ADDRESS=Hauptstraße 6\,  Schonach\
 , 78136 \, Deutschland;X-APPLE-RADIUS=100;X-TITLE=Schonach Kurgarten:geo:0
 ,0
END:VEVENT
BEGIN:VTIMEZONE
TZID:Europe/Berlin
X-LIC-LOCATION:Europe/Berlin
BEGIN:DAYLIGHT
DTSTART:20260329T030000
TZOFFSETFROM:+0100
TZOFFSETTO:+0200
TZNAME:CEST
END:DAYLIGHT
END:VTIMEZONE
END:VCALENDAR