BEGIN:VCALENDAR
VERSION:2.0
PRODID:-//wp-events-plugin.com//7.2.3.1//EN
TZID:Europe/Berlin
X-WR-TIMEZONE:Europe/Berlin
BEGIN:VEVENT
UID:66@bv-schwarzwaldbaar.de
DTSTART;TZID=Europe/Berlin:20260501T110000
DTEND;TZID=Europe/Berlin:20260501T180000
DTSTAMP:20260205T191701Z
URL:https://www.bv-schwarzwaldbaar.de/events/maifest-zum-100-jaehrigen-jub
 i-der-tk-buchenberg/
SUMMARY:Maifest der Trachenkapelle Buchenberg
DESCRIPTION:[vc_row][vc_column][vc_column_text css=""]Traditionelles Maifes
 t der Trachtenkapelle Buchenberg in der Ortsmitte von Buchenberg[/vc_colum
 n_text][/vc_column][/vc_row]
LOCATION:Baumgarten in der Dorfmitte Buchenberg\,  Dörfle 10 \, Königsfel
 d\, 78126 \, Deutschland
X-APPLE-STRUCTURED-LOCATION;VALUE=URI;X-ADDRESS= Dörfle 10 \, Königsfeld\
 , 78126 \, Deutschland;X-APPLE-RADIUS=100;X-TITLE=Baumgarten in der Dorfmi
 tte Buchenberg:geo:0,0
END:VEVENT
BEGIN:VTIMEZONE
TZID:Europe/Berlin
X-LIC-LOCATION:Europe/Berlin
BEGIN:DAYLIGHT
DTSTART:20260329T030000
TZOFFSETFROM:+0100
TZOFFSETTO:+0200
TZNAME:CEST
END:DAYLIGHT
END:VTIMEZONE
END:VCALENDAR