BEGIN:VCALENDAR
VERSION:2.0
PRODID:-//wp-events-plugin.com//7.2.3.1//EN
TZID:Europe/Berlin
X-WR-TIMEZONE:Europe/Berlin
BEGIN:VEVENT
UID:68@bv-schwarzwaldbaar.de
DTSTART;TZID=Europe/Berlin:20260501T110000
DTEND;TZID=Europe/Berlin:20260501T110000
DTSTAMP:20260205T191518Z
URL:https://www.bv-schwarzwaldbaar.de/events/mai-fescht-des-mutv-neuhausen
 /
SUMMARY:Mai-Fescht des MuTV Neuhausen
DESCRIPTION:Mai-Fescht des Musik- und Trachtenvereins Neuhausen\n\nhttps://
 www.mvneuhausen.de/
LOCATION:Neuhausen Festplatz\, Schulstraße 17\, Königsfeld-Neuhausen\, De
 utschland
GEO:48.134993;8.458021
X-APPLE-STRUCTURED-LOCATION;VALUE=URI;X-ADDRESS=Schulstraße 17\, Königsfe
 ld-Neuhausen\, Deutschland;X-APPLE-RADIUS=100;X-TITLE=Neuhausen Festplatz:
 geo:48.134993,8.458021
END:VEVENT
BEGIN:VTIMEZONE
TZID:Europe/Berlin
X-LIC-LOCATION:Europe/Berlin
BEGIN:DAYLIGHT
DTSTART:20260329T030000
TZOFFSETFROM:+0100
TZOFFSETTO:+0200
TZNAME:CEST
END:DAYLIGHT
END:VTIMEZONE
END:VCALENDAR