BEGIN:VCALENDAR
VERSION:2.0
PRODID:-//wp-events-plugin.com//7.2.3.1//EN
TZID:Europe/Berlin
X-WR-TIMEZONE:Europe/Berlin
BEGIN:VEVENT
UID:118@bv-schwarzwaldbaar.de
DTSTART;TZID=Europe/Berlin:20260712T000000
DTEND;TZID=Europe/Berlin:20260712T000000
DTSTAMP:20260204T081530Z
URL:https://www.bv-schwarzwaldbaar.de/events/jugendkapellentreffen-anlaess
 lich-40-jahre-blaeserjugend-im-blasmusikverband-schwarzwald-baar/
SUMMARY:Jugendkapellentreffen anlässlich 40 Jahre Bläserjugend im Blasmus
 ikverband Schwarzwald-Baar
DESCRIPTION:
LOCATION:Grüningen Festplatz\, Bergring \, Donaueschingen\, Baden-Württem
 berg\, 78166 \, Deutschland
X-APPLE-STRUCTURED-LOCATION;VALUE=URI;X-ADDRESS=Bergring \, Donaueschingen\
 , Baden-Württemberg\, 78166 \, Deutschland;X-APPLE-RADIUS=100;X-TITLE=Gr
 üningen Festplatz:geo:0,0
END:VEVENT
BEGIN:VTIMEZONE
TZID:Europe/Berlin
X-LIC-LOCATION:Europe/Berlin
BEGIN:DAYLIGHT
DTSTART:20260329T030000
TZOFFSETFROM:+0100
TZOFFSETTO:+0200
TZNAME:CEST
END:DAYLIGHT
END:VTIMEZONE
END:VCALENDAR