BEGIN:VCALENDAR
VERSION:2.0
PRODID:-//wp-events-plugin.com//7.2.3.1//EN
TZID:Europe/Berlin
X-WR-TIMEZONE:Europe/Berlin
BEGIN:VEVENT
UID:114@bv-schwarzwaldbaar.de
DTSTART;TZID=Europe/Berlin:20261121T200000
DTEND;TZID=Europe/Berlin:20261121T200000
DTSTAMP:20251127T071008Z
URL:https://www.bv-schwarzwaldbaar.de/events/jahreskonzert-musikverein-sch
 onach/
SUMMARY:Jahreskonzert Musikverein Schonach
DESCRIPTION:Jahreskonzert Musikverein Schonach
LOCATION:Schonach Kirche St. Urban\, Turntalstraße 2\, Schonach\, Deutschl
 and
GEO:48.142494;8.195283
X-APPLE-STRUCTURED-LOCATION;VALUE=URI;X-ADDRESS=Turntalstraße 2\, Schonach
 \, Deutschland;X-APPLE-RADIUS=100;X-TITLE=Schonach Kirche St. Urban:geo:48
 .142494,8.195283
END:VEVENT
BEGIN:VTIMEZONE
TZID:Europe/Berlin
X-LIC-LOCATION:Europe/Berlin
BEGIN:STANDARD
DTSTART:20261025T020000
TZOFFSETFROM:+0200
TZOFFSETTO:+0100
TZNAME:CET
END:STANDARD
END:VTIMEZONE
END:VCALENDAR