BEGIN:VCALENDAR
VERSION:2.0
PRODID:-//wp-events-plugin.com//7.2.3.1//EN
TZID:Europe/Berlin
X-WR-TIMEZONE:Europe/Berlin
BEGIN:VEVENT
UID:123@bv-schwarzwaldbaar.de
DTSTART;TZID=Europe/Berlin:20261219T200000
DTEND;TZID=Europe/Berlin:20261219T230000
DTSTAMP:20260205T194208Z
URL:https://www.bv-schwarzwaldbaar.de/events/jahreskonzert-langenschiltach
 -und-buchenberg-2/
SUMMARY:Jahreskonzert Langenschiltach und Buchenberg
DESCRIPTION:[vc_row][vc_column][vc_column_text css=""]Jahreskonzert des TMV
  Langenschiltach und der TKB Buchenberg in der Kirche in Langenschiltach\n
 \nhttp://www.trachtenmusikverein-langenschiltach.de/[/vc_column_text][/vc_
 column][/vc_row]
LOCATION:Langenschiltach Kirche\, Im Tal 23\, Langenschiltach\, Deutschland
GEO:48.160936;8.316042
X-APPLE-STRUCTURED-LOCATION;VALUE=URI;X-ADDRESS=Im Tal 23\, Langenschiltach
 \, Deutschland;X-APPLE-RADIUS=100;X-TITLE=Langenschiltach Kirche:geo:48.16
 0936,8.316042
END:VEVENT
BEGIN:VTIMEZONE
TZID:Europe/Berlin
X-LIC-LOCATION:Europe/Berlin
BEGIN:STANDARD
DTSTART:20261025T020000
TZOFFSETFROM:+0200
TZOFFSETTO:+0100
TZNAME:CET
END:STANDARD
END:VTIMEZONE
END:VCALENDAR