BEGIN:VCALENDAR
VERSION:2.0
PRODID:-//wp-events-plugin.com//7.2.3.1//EN
TZID:Europe/Berlin
X-WR-TIMEZONE:Europe/Berlin
BEGIN:VEVENT
UID:85@bv-schwarzwaldbaar.de
DTSTART;TZID=Europe/Berlin:20261205T000000
DTEND;TZID=Europe/Berlin:20261205T000000
DTSTAMP:20260208T104817Z
URL:https://www.bv-schwarzwaldbaar.de/events/jahreskonzert-des-mv-schoenen
 bach/
SUMMARY:Jahreskonzert des MV Schönenbach
DESCRIPTION:[vc_row][vc_column][vc_column_text css=""]Jahreskonzert des MV 
 Schönenbach\n\nDoppelkonzert mit dem MV Unterbaldingen[/vc_column_text][/
 vc_column][/vc_row]
LOCATION:Furtwangen Stadthalle\, Friedrichstraße 17\, Furtwangen im Schwar
 zwald\, 78120\, Deutschland
X-APPLE-STRUCTURED-LOCATION;VALUE=URI;X-ADDRESS=Friedrichstraße 17\, Furtw
 angen im Schwarzwald\, 78120\, Deutschland;X-APPLE-RADIUS=100;X-TITLE=Furt
 wangen Stadthalle:geo:0,0
END:VEVENT
BEGIN:VTIMEZONE
TZID:Europe/Berlin
X-LIC-LOCATION:Europe/Berlin
BEGIN:STANDARD
DTSTART:20261025T020000
TZOFFSETFROM:+0200
TZOFFSETTO:+0100
TZNAME:CET
END:STANDARD
END:VTIMEZONE
END:VCALENDAR