BEGIN:VCALENDAR
VERSION:2.0
PRODID:-//wp-events-plugin.com//7.2.3.1//EN
TZID:Europe/Berlin
X-WR-TIMEZONE:Europe/Berlin
BEGIN:VEVENT
UID:115@bv-schwarzwaldbaar.de
DTSTART;TZID=Europe/Berlin:20260228T143000
DTEND;TZID=Europe/Berlin:20260228T170000
DTSTAMP:20260204T080531Z
URL:https://www.bv-schwarzwaldbaar.de/events/jahreshauptversammlung-blasmu
 sikverband-schwarzwald-baar/
SUMMARY:Jahreshauptversammlung Blasmusikverband Schwarzwald-Baar
DESCRIPTION:
LOCATION:Stadthalle Blumberg\, Hauptstraße 94\, Blumberg\, Deutschland
GEO:47.839697;8.525025
X-APPLE-STRUCTURED-LOCATION;VALUE=URI;X-ADDRESS=Hauptstraße 94\, Blumberg\
 , Deutschland;X-APPLE-RADIUS=100;X-TITLE=Stadthalle Blumberg:geo:47.839697
 ,8.525025
END:VEVENT
BEGIN:VTIMEZONE
TZID:Europe/Berlin
X-LIC-LOCATION:Europe/Berlin
BEGIN:STANDARD
DTSTART:20251026T020000
TZOFFSETFROM:+0200
TZOFFSETTO:+0100
TZNAME:CET
END:STANDARD
END:VTIMEZONE
END:VCALENDAR