BEGIN:VCALENDAR
VERSION:2.0
PRODID:-//wp-events-plugin.com//7.2.3.1//EN
TZID:Europe/Berlin
X-WR-TIMEZONE:Europe/Berlin
BEGIN:VEVENT
UID:25@bv-schwarzwaldbaar.de
DTSTART;TZID=Europe/Berlin:20261018T110000
DTEND;TZID=Europe/Berlin:20261018T170000
DTSTAMP:20260303T102748Z
URL:https://www.bv-schwarzwaldbaar.de/events/dorfkilbi-des-mv-frohsinn-ten
 nenbronn/
SUMMARY:Dorfkilbi des MV Frohsinn Tennenbronn
DESCRIPTION:[vc_row][vc_column][vc_column_text css=""]Traditioneller Mittag
 stisch (Schinken\, Knödel\, Sauerkraut)\, viel Musik\, Kinderprogramm\n\n
 http://www.frohsinn-tennenbronn.de[/vc_column_text][/vc_column][/vc_row]
LOCATION:Tennenbronn Festhalle\, Löwenstraße 14\, Tennenbronn\, Baden-Wü
 rttemberg\, 78144\, Deutschland
GEO:48.191103;8.350758
X-APPLE-STRUCTURED-LOCATION;VALUE=URI;X-ADDRESS=Löwenstraße 14\, Tennenbr
 onn\, Baden-Württemberg\, 78144\, Deutschland;X-APPLE-RADIUS=100;X-TITLE=
 Tennenbronn Festhalle:geo:48.191103,8.350758
END:VEVENT
BEGIN:VTIMEZONE
TZID:Europe/Berlin
X-LIC-LOCATION:Europe/Berlin
BEGIN:DAYLIGHT
DTSTART:20260329T030000
TZOFFSETFROM:+0100
TZOFFSETTO:+0200
TZNAME:CEST
END:DAYLIGHT
END:VTIMEZONE
END:VCALENDAR