BEGIN:VCALENDAR
VERSION:2.0
PRODID:-//wp-events-plugin.com//7.2.3.1//EN
TZID:Europe/Berlin
X-WR-TIMEZONE:Europe/Berlin
BEGIN:VEVENT
UID:108@bv-schwarzwaldbaar.de
DTSTART;TZID=Europe/Berlin:20260710T000000
DTEND;TZID=Europe/Berlin:20260713T000000
DTSTAMP:20260209T193930Z
URL:https://www.bv-schwarzwaldbaar.de/events/brigachfest-des-musikvereins-
 grueningen/
SUMMARY:Bezirksmusikfest Grüningen
DESCRIPTION:[vc_row][vc_column][vc_column_text css=""]Das Warten hat sich g
 elohnt: In Grüningen wird gefeiert – und zwar gleich vier Tage lang!\nV
 on Freitag bis Montag lädt das Bezirksmusikfest Grüningen zu einem groß
 en Sommerfest mit allem ein\, was dazugehört: Blasmusik vom Feinsten\, le
 ckeres Essen\, kühle Getränke\, Barbetrieb\, Kinderprogramm und ganz vie
 l gute Stimmung.\n\nMitten im Grünen\, direkt an der Brigach\, wird Grün
 ingen zur lebendigen Festmeile voller Musik\, Begegnung und Lebensfreude. 
 Ob ausgelassenes Feiern\, entspanntes Genießen oder gemütliches Zusammen
 sitzen – hier ist für alle etwas dabei.\n\nKurz und knapp:\n\n 	Wann? F
 reitag bis Montag\n 	Wo? Festwiese Wehrede\, Grüningen\n 	Wer? Musikverei
 n &amp\; Bläserjugend Grüningen – und natürlich ihr!\n\nSave the date
  und kommt vorbei – das Bezirksmusikfest Grüningen wird groß!\n\n&nbsp
 \;\n\n&nbsp\;\n\nBezirksmusikfest Grüningen[/vc_column_text][/vc_column][
 /vc_row]
ATTACH;FMTTYPE=image/jpeg:https://www.bv-schwarzwaldbaar.de/wp-content/upl
 oads/2025/06/Flyer_Bezirksmusikfest_Grueningen-scaled.jpg
LOCATION:Grüningen Festplatz\, Bergring \, Donaueschingen\, Baden-Württem
 berg\, 78166 \, Deutschland
X-APPLE-STRUCTURED-LOCATION;VALUE=URI;X-ADDRESS=Bergring \, Donaueschingen\
 , Baden-Württemberg\, 78166 \, Deutschland;X-APPLE-RADIUS=100;X-TITLE=Gr
 üningen Festplatz:geo:0,0
END:VEVENT
BEGIN:VTIMEZONE
TZID:Europe/Berlin
X-LIC-LOCATION:Europe/Berlin
BEGIN:DAYLIGHT
DTSTART:20260329T030000
TZOFFSETFROM:+0100
TZOFFSETTO:+0200
TZNAME:CEST
END:DAYLIGHT
END:VTIMEZONE
END:VCALENDAR