BEGIN:VCALENDAR
VERSION:2.0
PRODID:-//wp-events-plugin.com//7.2.3.1//EN
TZID:Europe/Berlin
X-WR-TIMEZONE:Europe/Berlin
BEGIN:VEVENT
UID:121@bv-schwarzwaldbaar.de
DTSTART;TZID=Europe/Berlin:20260703T190000
DTEND;TZID=Europe/Berlin:20260703T233000
DTSTAMP:20260205T192537Z
URL:https://www.bv-schwarzwaldbaar.de/events/4er-openair-konzert-in-mariaz
 ell/
SUMMARY:4er Openair-Konzert in Mariazell
DESCRIPTION:4er Openair-Konzert zum Ortsjubiläum von Mariazell mit dem MV 
 Mariazell\, Akkordeon-Orchester Locherhof \, VokalTotal
LOCATION:Mariazell Mühlbach-Halle\, Pfarrgasse 10/1\, Eschbronn\, 78664\, 
 Deutschland
GEO:48.185022;8.455748
X-APPLE-STRUCTURED-LOCATION;VALUE=URI;X-ADDRESS=Pfarrgasse 10/1\, Eschbronn
 \, 78664\, Deutschland;X-APPLE-RADIUS=100;X-TITLE=Mariazell Mühlbach-Hall
 e:geo:48.185022,8.455748
END:VEVENT
BEGIN:VTIMEZONE
TZID:Europe/Berlin
X-LIC-LOCATION:Europe/Berlin
BEGIN:DAYLIGHT
DTSTART:20260329T030000
TZOFFSETFROM:+0100
TZOFFSETTO:+0200
TZNAME:CEST
END:DAYLIGHT
END:VTIMEZONE
END:VCALENDAR